BEGIN:VCALENDAR
VERSION:2.0
PRODID:-//eventon.com NONSGML v1.0//EN
CALSCALE:GREGORIAN
METHOD:PUBLISH
BEGIN:VEVENT
UID:69e6470ae90dc
DTSTAMP:20260420T153226Z
DTSTART:20261112
DTEND:20261113
LOCATION:Downtown Gatlinburg 631 Parkway
SUMMARY:Gatlinburg Chili Cookoff
DESCRIPTION:An annual chili cookoff in Gatlinburg featuring tastings\,  fri
 endly competition\,  and a variety of unique chili recipes. A fun and flavo
 rful event perfect for food lovers visiting the Smoky Mountains.\nhttps://w
 ww.elkspringsresort.com/blog/events/gatlinburg-chili-cookoff/
URL:https://www.elkspringsresort.com/blog/events/gatlinburg-chili-cookoff/
END:VEVENT
END:VCALENDAR