BEGIN:VCALENDAR
VERSION:2.0
PRODID:-//eventon.com NONSGML v1.0//EN
CALSCALE:GREGORIAN
METHOD:PUBLISH
BEGIN:VEVENT
UID:69e646fc89b53
DTSTAMP:20260420T153212Z
DTSTART:20260515
DTEND:20260516
LOCATION:Downtown Gatlinburg 631 Parkway
SUMMARY:Gatlinburg Festival of Flags
DESCRIPTION:A patriotic summer celebration in Gatlinburg featuring thousand
 s of American flags\,  festive decorations\,  and Independence Day events i
 ncluding the famous Midnight Parade. A great way to experience the Smoky Mo
 untains during the 4th of July holiday.\nhttps://www.elkspringsresort.com/b
 log/events/gatlinburg-festival-of-flags/
URL:https://www.elkspringsresort.com/blog/events/gatlinburg-festival-of-flags/
END:VEVENT
END:VCALENDAR