BEGIN:VCALENDAR
VERSION:2.0
PRODID:-//eventon.com NONSGML v1.0//EN
CALSCALE:GREGORIAN
METHOD:PUBLISH
BEGIN:VEVENT
UID:69e646bec4a1a
DTSTAMP:20260420T153110Z
DTSTART:20261016
DTEND:20261017
LOCATION:Wears Valley Ranch 100 One Fine Place
SUMMARY:Wears Valley Fall Fest
DESCRIPTION:A laid-back fall festival in Wears Valley featuring local craft
 s\,  food vendors\,  and live music set against the Smoky Mountains’ autu
 mn scenery. Perfect for visitors looking for a relaxed\,  authentic seasona
 l experience.\nhttps://www.elkspringsresort.com/blog/events/wears-valley-fa
 ll-fest/
URL:https://www.elkspringsresort.com/blog/events/wears-valley-fall-fest/
END:VEVENT
END:VCALENDAR