BEGIN:VCALENDAR
VERSION:2.0
PRODID:-//eventon.com NONSGML v1.0//EN
CALSCALE:GREGORIAN
METHOD:PUBLISH
BEGIN:VEVENT
UID:69e646b9ad2e8
DTSTAMP:20260420T153105Z
DTSTART:20260904
DTEND:20260905
LOCATION:Wears Valley Ranch 100 One Fine Place
SUMMARY:Hot Rod Nationals
DESCRIPTION:A laid-back early September car show in Sevierville featuring c
 lassic hot rods\,  muscle cars\,  and custom builds with vendors and food. 
 A great kickoff to the Smoky Mountain fall car show season.\nhttps://www.el
 kspringsresort.com/blog/events/hot-rod-nationals/
URL:https://www.elkspringsresort.com/blog/events/hot-rod-nationals/
END:VEVENT
END:VCALENDAR