BEGIN:VCALENDAR
VERSION:2.0
PRODID:-//eventon.com NONSGML v1.0//EN
CALSCALE:GREGORIAN
METHOD:PUBLISH
BEGIN:VEVENT
UID:69e646fbc52f8
DTSTAMP:20260420T153211Z
DTSTART:20260730
DTEND:20260731
LOCATION:LeConte Center at Pigeon Forge  2986 Teaster Ln
SUMMARY:Smoky Mountain Big Rig Showdown
DESCRIPTION:A multi-day truck show in Pigeon Forge featuring custom semi-tr
 ucks\,  a parade\,  live entertainment\,  food vendors\,  and a nighttime l
 ight show. A must-see summer event for truck enthusiasts and families in th
 e Smoky Mountains.\nhttps://www.elkspringsresort.com/blog/events/smoky-moun
 tain-big-rig-showdown/
URL:https://www.elkspringsresort.com/blog/events/smoky-mountain-big-rig-showdown/
END:VEVENT
END:VCALENDAR