BEGIN:VCALENDAR
VERSION:2.0
PRODID:-//eventon.com NONSGML v1.0//EN
CALSCALE:GREGORIAN
METHOD:PUBLISH
BEGIN:VEVENT
UID:69e646ab5b5b5
DTSTAMP:20260420T153051Z
DTSTART:20260725
DTEND:20260726
LOCATION:Sevier County Fairgrounds 754 Old Knoxville Hwy.
SUMMARY:Smoky Mountain Summer fest (Classic Car Show)
DESCRIPTION:A one-day summer car show in Sevierville featuring classic cars
 \,  muscle cars\,  and custom builds alongside food trucks\,  vendors\,  an
 d live music. Free and family-friendly\,  it’s a must-see event for car e
 nthusiasts visiting the Smoky Mountains.\nhttps://www.elkspringsresort.com/
 blog/events/smoky-mountain-summerfest-classic-car-show/
URL:https://www.elkspringsresort.com/blog/events/smoky-mountain-summerfest-classic-car-show/
END:VEVENT
END:VCALENDAR