BEGIN:VCALENDAR
VERSION:2.0
PRODID:-//eventon.com NONSGML v1.0//EN
CALSCALE:GREGORIAN
METHOD:PUBLISH
BEGIN:VEVENT
UID:69e647585840c
DTSTAMP:20260420T153344Z
DTSTART:20260615T120000Z
DTEND:20260803T020000Z
LOCATION:Dollywood's Splash Country 2700 Dollywood Parks Blvd.
SUMMARY:Dollywood Smoky Mountain Summer Celebration
DESCRIPTION:A lively summer festival at Dollywood featuring extended park h
 ours\,  interactive water attractions\,  colorful décor\,  and nightly dro
 ne and fireworks shows. Guests can enjoy rides\,  entertainment\,  and fami
 ly-friendly fun from sunny days into exciting summer nights.\nhttps://www.e
 lkspringsresort.com/blog/events/dollywood-smoky-mountain-summer-celebration
 /
URL:https://www.elkspringsresort.com/blog/events/dollywood-smoky-mountain-summer-celebration/
END:VEVENT
END:VCALENDAR