BEGIN:VCALENDAR
VERSION:2.0
PRODID:-//eventon.com NONSGML v1.0//EN
CALSCALE:GREGORIAN
METHOD:PUBLISH
BEGIN:VEVENT
UID:69e6470aa155e
DTSTAMP:20260420T153226Z
DTSTART:20260505
DTEND:20260506
LOCATION:Sevier County Fairgrounds 754 Old Knoxville Hwy.
SUMMARY:Circle Yer Wagens in Townsend
DESCRIPTION:A relaxed Volkswagen festival in Townsend\,  TN featuring vinta
 ge VW vehicles\,  camping\,  vendors\,  and live music near the Smoky Mount
 ains. A must-visit for car enthusiasts and families looking for a fun\,  sc
 enic weekend.\nhttps://www.elkspringsresort.com/blog/events/circle-yer-wage
 ns/
URL:https://www.elkspringsresort.com/blog/events/circle-yer-wagens/
END:VEVENT
END:VCALENDAR