BEGIN:VCALENDAR
VERSION:2.0
PRODID:-//eventon.com NONSGML v1.0//EN
CALSCALE:GREGORIAN
METHOD:PUBLISH
BEGIN:VEVENT
UID:69e64715af1c2
DTSTAMP:20260420T153237Z
DTSTART:20260422
DTEND:20260423
LOCATION:Great Smoky Mountains National Park 1420 Fighting Creek Gap Rd\,  Gatlinburg\,  TN 37738
SUMMARY:76th Annual Spring Wildflower Pilgrimage
DESCRIPTION:A multi-day spring event in the Great Smoky Mountains featuring
  guided hikes\,  educational workshops\,  and expert-led programs celebrati
 ng wildflowers\,  wildlife\,  and nature. Held annually in late April\,  it
  offers a unique opportunity to explore one of the most biodiverse ecosyste
 ms in the U.S. during peak bloom.\nhttps://www.elkspringsresort.com/blog/ev
 ents/76th-annual-spring-wildflower-pilgrimage/
URL:https://www.elkspringsresort.com/blog/events/76th-annual-spring-wildflower-pilgrimage/
END:VEVENT
END:VCALENDAR