BEGIN:VCALENDAR
VERSION:2.0
PRODID:-//eventon.com NONSGML v1.0//EN
CALSCALE:GREGORIAN
METHOD:PUBLISH
BEGIN:VEVENT
UID:69e647070e0db
DTSTAMP:20260420T153223Z
DTSTART:20260418
DTEND:20260419
LOCATION:Dollywood's Splash Country 2700 Dollywood Parks Blvd.
SUMMARY:Dollywood Flower and Food Festival
DESCRIPTION:Dollywood Flower &amp; Food Festival is a vibrant spring event 
 at Dollywood featuring stunning floral displays\,  creative plant sculpture
 s\,  and colorful seasonal décor. Guests can also enjoy unique festival fo
 ods\,  specialty drinks\,  and live entertainment throughout the park!\nhtt
 ps://www.elkspringsresort.com/blog/events/dollywood-flower-and-food-festiva
 l/
URL:https://www.elkspringsresort.com/blog/events/dollywood-flower-and-food-festival/
END:VEVENT
END:VCALENDAR