BEGIN:VCALENDAR
VERSION:2.0
PRODID:-//eventon.com NONSGML v1.0//EN
CALSCALE:GREGORIAN
METHOD:PUBLISH
BEGIN:VEVENT
UID:69e64758b9ad9
DTSTAMP:20260420T153344Z
DTSTART:20260915
DTEND:20260916
LOCATION:Downtown Gatlinburg 631 Parkway
SUMMARY:GatlinBURGER week
DESCRIPTION:Eat and enjoy a wide variety of bodacious burgers across the ci
 ty during Gatlinburg&#8217;s &#8220;GatlinBURGER week.&#8221; Taking place 
 over seven days this September you can tryout specially crafted burgers at 
 participating Gatlinburg restaurants. Complete the GaltinBURGER challenge a
 nd become a Burger Master as well as vote for which restaurant will[..]\nht
 tps://www.elkspringsresort.com/blog/events/gatlinburger-week/
URL:https://www.elkspringsresort.com/blog/events/gatlinburger-week/
END:VEVENT
END:VCALENDAR