BEGIN:VCALENDAR
VERSION:2.0
PRODID:-//eventon.com NONSGML v1.0//EN
CALSCALE:GREGORIAN
METHOD:PUBLISH
BEGIN:VEVENT
UID:69e646bf755de
DTSTAMP:20260420T153111Z
DTSTART:20260814
DTEND:20260815
LOCATION:LeConte Center at Pigeon Forge  2986 Teaster Ln
SUMMARY:The Great Smoky Mountain Bronco™ Stampede
DESCRIPTION:The Great Smoky Mountain Bronco™ Stampede brings together Bro
 nco™ clubs\,  enthusiasts\,  owners\,  and vendors from all over the nati
 on. Open to Ford Broncos™ of all years\,  makes and models\,  this two-da
 y event is full of numerous events and festivities. Held at the LeConte Cen
 ter in Pigeon Forge\,  the Annual Great[..]\nhttps://www.elkspringsresort.c
 om/blog/events/the-great-smoky-mountain-bronco-stampede/
URL:https://www.elkspringsresort.com/blog/events/the-great-smoky-mountain-bronco-stampede/
END:VEVENT
END:VCALENDAR