BEGIN:VCALENDAR
VERSION:2.0
PRODID:-//eventon.com NONSGML v1.0//EN
CALSCALE:GREGORIAN
METHOD:PUBLISH
BEGIN:VEVENT
UID:69e647070e601
DTSTAMP:20260420T153223Z
DTSTART:20260703T180000Z
DTEND:20260705T030000Z
LOCATION:Patriot Park 186 Old Mill Ave.
SUMMARY:The Pigeon Forge Patriot Festival
DESCRIPTION:Celebrate the 4th of July at Pigeon Forge&#8217;s 2026 Patriot 
 Festival. This family friendly event features live music\,  fireworks and l
 oads of family fun. It is held at Pigeon Forge’s Patriot Park\,  a park d
 edicated to the veterans of Sevier County. The Pigeon Forge Patriot Festiva
 l is free and open[..]\nhttps://www.elkspringsresort.com/blog/events/the-pi
 geon-forge-patriot-festival/
URL:https://www.elkspringsresort.com/blog/events/the-pigeon-forge-patriot-festival/
END:VEVENT
END:VCALENDAR