BEGIN:VCALENDAR
VERSION:2.0
PRODID:-//eventon.com NONSGML v1.0//EN
CALSCALE:GREGORIAN
METHOD:PUBLISH
BEGIN:VEVENT
UID:69e646beed3f7
DTSTAMP:20260420T153110Z
DTSTART:20260703T040100Z
DTEND:20260704T060000Z
LOCATION:Downtown Gatlinburg 631 Parkway
SUMMARY:Gatlinburg’s Midnight 4th of July Parade
DESCRIPTION:Be a part of the midnight magic at one of the most highly rated
  parades in the nation\,  during Gatlinburg’s famous midnight 4th of July
  Parade. Ranked as one of the “Top 10 Parades in the U.S.&#8221; by Natio
 nal Geographic Traveler\,  this unique and dazzling 4th of July Parade kick
 s[..]\nhttps://www.elkspringsresort.com/blog/events/gatlinburgs-midnight-4t
 h-of-july-parade-2/
URL:https://www.elkspringsresort.com/blog/events/gatlinburgs-midnight-4th-of-july-parade-2/
END:VEVENT
END:VCALENDAR