BEGIN:VCALENDAR
VERSION:2.0
PRODID:-//eventon.com NONSGML v1.0//EN
CALSCALE:GREGORIAN
METHOD:PUBLISH
BEGIN:VEVENT
UID:69e646ab92fcd
DTSTAMP:20260420T153051Z
DTSTART:20260608
DTEND:20260609
LOCATION:LeConte Center at Pigeon Forge  2986 Teaster Ln
SUMMARY:Smoky Mountain Quilt Fest
DESCRIPTION:Celebrate the craft and heritage of quilt making this year at â
 €śA Mountain Quiltfestâ€ť â„˘. Quilters can choose from a variety of worksh
 ops at different levels to hone their skill and technique. In addition\,  t
 here is a Quilt Show for quilters to display their talents\,  and they can 
 enter their[..]\nhttps://www.elkspringsresort.com/blog/events/smoky-mountai
 n-quilt-fest/
URL:https://www.elkspringsresort.com/blog/events/smoky-mountain-quilt-fest/
END:VEVENT
END:VCALENDAR