BEGIN:VCALENDAR
VERSION:2.0
PRODID:-//eventon.com NONSGML v1.0//EN
CALSCALE:GREGORIAN
METHOD:PUBLISH
BEGIN:VEVENT
UID:69e646fc0bb6f
DTSTAMP:20260420T153212Z
DTSTART:20260514
DTEND:20260515
LOCATION:LeConte Center at Pigeon Forge  2986 Teaster Ln
SUMMARY:Grand National F-100 Ford Show
DESCRIPTION:Don&#8217;t miss the largest classic Ford pick-up truck event i
 n the world. This Grand National F-100 show brings together classic Ford tr
 uck enthusiasts together each May in Pigeon Forge. Participants will showca
 se their trucks inside and outside of the LeConte Center at Pigeon Forge. T
 his class Ford pick-up show also[..]\nhttps://www.elkspringsresort.com/blog
 /events/grand-national-f-100-ford-show-2/
URL:https://www.elkspringsresort.com/blog/events/grand-national-f-100-ford-show-2/
END:VEVENT
END:VCALENDAR