BEGIN:VCALENDAR
VERSION:2.0
PRODID:-//eventon.com NONSGML v1.0//EN
CALSCALE:GREGORIAN
METHOD:PUBLISH
BEGIN:VEVENT
UID:69e646b98a3f9
DTSTAMP:20260420T153105Z
DTSTART:20260415
DTEND:20260416
LOCATION:Downtown Sevierville 125 Court Ave.
SUMMARY:Bloomin’ Barbeque Bluegrass Festival
DESCRIPTION:Celebrate spring\,  enjoy live music and sample the best in bar
 beque at the Bloomin’ Barbeque Bluegrass Festival in downtown Sevierville
 . This free festival truly has something for everyone with kid&#8217;s acti
 vities\,  numerous vendors onsite\,  and a national barbeque cooking compet
 ition onsite. Not to mention the incredible musical entertainment.\nhttps:/
 /www.elkspringsresort.com/blog/events/bloomin-barbeque-bluegrass-festival/
URL:https://www.elkspringsresort.com/blog/events/bloomin-barbeque-bluegrass-festival/
END:VEVENT
END:VCALENDAR