BEGIN:VCALENDAR
VERSION:2.0
PRODID:-//eventon.com NONSGML v1.0//EN
CALSCALE:GREGORIAN
METHOD:PUBLISH
BEGIN:VEVENT
UID:69e6470759baa
DTSTAMP:20260420T153223Z
DTSTART:20260509
DTEND:20260510
LOCATION:Downtown Sevierville 125 Court Ave.
SUMMARY:Bruce Street Brew Fest
DESCRIPTION:Enjoy local Sevierville&#8217;s\,  music and more at Seviervill
 e&#8217;s Bruce Street Brewfest! This annual event takes place in Historic 
 Sevierville and features regional craft beers. Tickets include the opportun
 ity to sample both professional and homebrewers brews competing for awards.
  In addition to sampling locally crafted beer guests can live music\,  food
 [..]\nhttps://www.elkspringsresort.com/blog/events/bruce-street-brew-fest/
URL:https://www.elkspringsresort.com/blog/events/bruce-street-brew-fest/
END:VEVENT
END:VCALENDAR