BEGIN:VCALENDAR
VERSION:2.0
PRODID:-//eventon.com NONSGML v1.0//EN
CALSCALE:GREGORIAN
METHOD:PUBLISH
BEGIN:VEVENT
UID:69e64715aeddd
DTSTAMP:20260420T153237Z
DTSTART:20260604
DTEND:20260605
LOCATION:LeConte Center at Pigeon Forge  2986 Teaster Ln
SUMMARY:Pontiacs in Pigeon Forge Car Show
DESCRIPTION:Don&#8217;t miss “Pontiacs in Pigeon Forge Car Show” this M
 ay! This year\,  for the first time ever\,  this event will be held at the 
 LeConte Center of Pigeon Forge. There will be prizes for best in show\,  on
 site vendors and much more. Pontiacs in Pigeon Forge Car Show has something
 [..]\nhttps://www.elkspringsresort.com/blog/events/pontiacs-in-pigeon-forge
 -car-show/
URL:https://www.elkspringsresort.com/blog/events/pontiacs-in-pigeon-forge-car-show/
END:VEVENT
END:VCALENDAR