BEGIN:VCALENDAR
VERSION:2.0
PRODID:-//eventon.com NONSGML v1.0//EN
CALSCALE:GREGORIAN
METHOD:PUBLISH
BEGIN:VEVENT
UID:69e8f73d9c353
DTSTAMP:20260422T162845Z
DTSTART:20260201T021500Z
DTEND:20260201T060000Z
LOCATION:Gatlinburg Space Needle 115 Historic Nature Trail
SUMMARY:Gatlinburg's New Year's Eve Celebration!
DESCRIPTION:Ring in the New Year with glittering fireworks showering the Ga
 tlinburg skyline. Gatlinburg will celebrate its 34th annual New Year’s Ev
 e under its iconic space needle with a ball drop and phenomenal fireworks d
 isplay.  Prior to the ball drop crowd goers will be entertained with free 
 concerts. The free music[..]\nhttps://www.elkspringsresort.com/blog/events/
 gatlinburg-new-years-eve-celebration/
URL:https://www.elkspringsresort.com/blog/events/gatlinburg-new-years-eve-celebration/
END:VEVENT
END:VCALENDAR