BEGIN:VCALENDAR
VERSION:2.0
PRODID:-//eventon.com NONSGML v1.0//EN
CALSCALE:GREGORIAN
METHOD:PUBLISH
BEGIN:VEVENT
UID:69e647163e985
DTSTAMP:20260420T153238Z
DTSTART:20261101
DTEND:20261102
LOCATION:Downtown Gatlinburg 631 Parkway
SUMMARY:Winterfest in the Great Smoky Mountains
DESCRIPTION:Be filled with light and wonder throughout the Great Smoky Moun
 tains during the Great Smoky Mountains Winterfest. Running from early Novem
 ber to February\,  Winterfest features thousands of twinkling lights coveri
 ng area businesses\,  attractions\,  and streets in Gatlinburg\,  Pigeon Fo
 rge\,  and Sevierville. Each of these towns celebrates winter fest with a[.
 .]\nhttps://www.elkspringsresort.com/blog/events/winterfest-in-the-great-sm
 oky-mountains-2/
URL:https://www.elkspringsresort.com/blog/events/winterfest-in-the-great-smoky-mountains-2/
END:VEVENT
END:VCALENDAR