BEGIN:VCALENDAR
VERSION:2.0
PRODID:-//eventon.com NONSGML v1.0//EN
CALSCALE:GREGORIAN
METHOD:PUBLISH
BEGIN:VEVENT
UID:69e6470b6e999
DTSTAMP:20260420T153227Z
DTSTART:20261108T120000Z
DTEND:20261108T160000Z
LOCATION:Townsend Visitors Center 7906 E Lamar Alexander Pkwy
SUMMARY:Cades Cove Loop Lope in the Great Smoky Mountains National Park
DESCRIPTION:Don&#8217;t miss a chance to race in one of the most iconic are
 as of the Great Smokey Mountains National Park-Cades Cove. The Cades Cove L
 oop Lope is an incredible running race event features a 10- mile Loop Lope 
 and a 5k Loop Lope. This race is sponsored by area businesses[..]\nhttps://
 www.elkspringsresort.com/blog/events/cades-cove-loop-lope/
URL:https://www.elkspringsresort.com/blog/events/cades-cove-loop-lope/
END:VEVENT
END:VCALENDAR