BEGIN:VCALENDAR
VERSION:2.0
PRODID:-//eventon.com NONSGML v1.0//EN
CALSCALE:GREGORIAN
METHOD:PUBLISH
BEGIN:VEVENT
UID:69e646ba32790
DTSTAMP:20260420T153106Z
DTSTART:20261111T160000Z
DTEND:20261111T170000Z
LOCATION:Rocky Top Sports World 1870 Sports World Blvd.
SUMMARY:Veteran's Day Celebration in Gatlinburg
DESCRIPTION:Gatlinburg has made it a priority to honor active military and 
 United States military veterans for over twenty years at their Veteran&#821
 7;s Day Celebration. Be a part of this ceremony to pay homage to those who 
 serve on November 11th at Rocky Top Sports World in Gatlinburg\,  Tennessee
 . Take in[..]\nhttps://www.elkspringsresort.com/blog/events/veterans-day-ce
 lebration-in-gatlinburg/
URL:https://www.elkspringsresort.com/blog/events/veterans-day-celebration-in-gatlinburg/
END:VEVENT
END:VCALENDAR