BEGIN:VCALENDAR
VERSION:2.0
PRODID:-//eventon.com NONSGML v1.0//EN
CALSCALE:GREGORIAN
METHOD:PUBLISH
BEGIN:VEVENT
UID:69e6239e262b0
DTSTAMP:20260420T130118Z
DTSTART:20221001T220000Z
DTEND:20221101T020100Z
LOCATION:Rocky Top Mountain Coaster  2940 Veterans Blvd.
SUMMARY:Coasts & Goblins Rocky Top Mountain Coaster
DESCRIPTION:Experience the thrills and chills of East Tennessee&#8217;s lon
 gest coaster and ride along with extra scary sights during this October. Ro
 ck Top Mountain Coaster not only guarantees an unforgettable ride any time\
 ,  but you don’t want to miss the creepy nights to boot as they celebrate
  their Coasts &amp; Goblins[..]\nhttps://www.elkspringsresort.com/blog/even
 ts/coasts-goblins-rocky-top-mountain-coaster/
URL:https://www.elkspringsresort.com/blog/events/coasts-goblins-rocky-top-mountain-coaster/
END:VEVENT
END:VCALENDAR