BEGIN:VCALENDAR
VERSION:2.0
PRODID:-//eventon.com NONSGML v1.0//EN
CALSCALE:GREGORIAN
METHOD:PUBLISH
BEGIN:VEVENT
UID:69eb9928e0975
DTSTAMP:20260424T162408Z
DTSTART:20220704T040100Z
DTEND:20220704T060000Z
LOCATION:Parkway Downtown Gatlinburg 800 Parkway
SUMMARY:Gatlinburg's Famous 4th of July Midnight Parade
DESCRIPTION:Kick off the 4th of July with a bang and be the first to start 
 the celebration at Gatlinburg’s famous midnight 4th of July Parade. Named
  one of the “Top 10 Parades” to see in the U.S. by National Geographic 
 Magazine\,  the Gatlinburg midnight 4th of July Parade is an[..]\nhttps://w
 ww.elkspringsresort.com/blog/events/gatlinburgs-famous-4th-of-july-midnight
 -parade/
URL:https://www.elkspringsresort.com/blog/events/gatlinburgs-famous-4th-of-july-midnight-parade/
END:VEVENT
END:VCALENDAR