BEGIN:VCALENDAR
VERSION:2.0
PRODID:-//eventon.com NONSGML v1.0//EN
CALSCALE:GREGORIAN
METHOD:PUBLISH
BEGIN:VEVENT
UID:69e97770dd550
DTSTAMP:20260423T013544Z
DTSTART:20220521T000000Z
DTEND:20220520T150000Z
LOCATION:Country Tonite Theatre 129 Showplace Blvd.
SUMMARY:Shenandoah live at Country Tonite Theatre
DESCRIPTION:With ten studio albums under their belt and 26 singles hitting 
 Billboard’s Hot Country Songs Chart\,  Shenandoah has made their mark as 
 a legendary country band. Formed in Muscle Shoals\,  Alabama in the early 1
 980’s\,  their popular sophomore album-The Road Not Taken-and their first
  two number one hits\,  “She doesn’t[..]\nhttps://www.elkspringsresort.
 com/blog/events/shenandoah-live-at-country-tonite-theatre/
URL:https://www.elkspringsresort.com/blog/events/shenandoah-live-at-country-tonite-theatre/
END:VEVENT
END:VCALENDAR