BEGIN:VCALENDAR
VERSION:2.0
PRODID:-//eventon.com NONSGML v1.0//EN
CALSCALE:GREGORIAN
METHOD:PUBLISH
BEGIN:VEVENT
UID:69e8890ad01fc
DTSTAMP:20260422T083834Z
DTSTART:20220303T130000Z
DTEND:20220306T010000Z
LOCATION:LeConte Center at Pigeon Forge  2986 Teaster Ln
SUMMARY:National Quartet Convention Spring Break
DESCRIPTION:Building on the success of their 2021 convention\,  the Nationa
 l Quartet Convention Spring Break seeks to bring Gospel Music’s best know
 n artists to Pigeon Forge again this spring. This amazing event brings toge
 ther some of the nationally renowned gospel artists to one venue\,  The LeC
 onte Center\,  over three days with[..]\nhttps://www.elkspringsresort.com/b
 log/events/national-quartet-convention-spring-break/
URL:https://www.elkspringsresort.com/blog/events/national-quartet-convention-spring-break/
END:VEVENT
END:VCALENDAR