BEGIN:VCALENDAR
VERSION:2.0
PRODID:-//eventon.com NONSGML v1.0//EN
CALSCALE:GREGORIAN
METHOD:PUBLISH
BEGIN:VEVENT
UID:69e4dad84faf0
DTSTAMP:20260419T133832Z
DTSTART:20210916T120000Z
DTEND:20211122T040000Z
LOCATION:Anakeesta Plaza 576 Parkway
SUMMARY:Gatlinburg Smoky Mountain Harvest Festival
DESCRIPTION:Gatlinburg is a premier place to experience the wonder of autum
 n in the Great Smoky Mountains.  The town proudly celebrates this special 
 time with the Gatlinburg Smoky Mountain Harvest Festival\,  where colorful 
 and festive fall decorations splash up the downtown. This year’s festival
  will extend it’s time from September 16th[..]\nhttps://www.elkspringsres
 ort.com/blog/events/gatlinburg-smoky-mountain-harvest-festival/
URL:https://www.elkspringsresort.com/blog/events/gatlinburg-smoky-mountain-harvest-festival/
END:VEVENT
END:VCALENDAR