BEGIN:VCALENDAR
VERSION:2.0
PRODID:-//eventon.com NONSGML v1.0//EN
CALSCALE:GREGORIAN
METHOD:PUBLISH
BEGIN:VEVENT
UID:69e6475857e95
DTSTAMP:20260420T153344Z
DTSTART:20260917
DTEND:20260918
LOCATION:LeConte Center at Pigeon Forge  2986 Teaster Ln
SUMMARY:Fall Rod Run at Pigeon Forge's LeConte Center
DESCRIPTION:One of the largest automotive events in the area\,  the Fall Ro
 d Run brings together car enthusiasts from all across the country for 3 day
 s of amazing events. Pigeon Forge&#8217;s Fall Rod Run features even bigger
  prizes than ever this year with 10\, 000 dollars cash giveaway plus top 25
  and[..]\nhttps://www.elkspringsresort.com/blog/events/pigeon-forge-rod-run
 /
URL:https://www.elkspringsresort.com/blog/events/pigeon-forge-rod-run/
END:VEVENT
END:VCALENDAR